BEGIN:VCALENDAR
VERSION:2.0
PRODID:-//Center for Christogenesis - ECPv6.15.20//NONSGML v1.0//EN
CALSCALE:GREGORIAN
METHOD:PUBLISH
X-ORIGINAL-URL:https://christogenesis.org
X-WR-CALDESC:Events for Center for Christogenesis
REFRESH-INTERVAL;VALUE=DURATION:PT1H
X-Robots-Tag:noindex
X-PUBLISHED-TTL:PT1H
BEGIN:VTIMEZONE
TZID:America/New_York
BEGIN:DAYLIGHT
TZOFFSETFROM:-0500
TZOFFSETTO:-0400
TZNAME:EDT
DTSTART:20250309T070000
END:DAYLIGHT
BEGIN:STANDARD
TZOFFSETFROM:-0400
TZOFFSETTO:-0500
TZNAME:EST
DTSTART:20251102T060000
END:STANDARD
BEGIN:DAYLIGHT
TZOFFSETFROM:-0500
TZOFFSETTO:-0400
TZNAME:EDT
DTSTART:20260308T070000
END:DAYLIGHT
BEGIN:STANDARD
TZOFFSETFROM:-0400
TZOFFSETTO:-0500
TZNAME:EST
DTSTART:20261101T060000
END:STANDARD
BEGIN:DAYLIGHT
TZOFFSETFROM:-0500
TZOFFSETTO:-0400
TZNAME:EDT
DTSTART:20270314T070000
END:DAYLIGHT
BEGIN:STANDARD
TZOFFSETFROM:-0400
TZOFFSETTO:-0500
TZNAME:EST
DTSTART:20271107T060000
END:STANDARD
END:VTIMEZONE
BEGIN:VEVENT
DTSTART;TZID=America/New_York:20260203T190000
DTEND;TZID=America/New_York:20260203T203000
DTSTAMP:20260421T095353
CREATED:20251217T062235Z
LAST-MODIFIED:20260204T071829Z
UID:55825-1770145200-1770150600@christogenesis.org
SUMMARY:How Christianity Got Jesus Wrong with Reggie Williams
DESCRIPTION:Join us Tuesday\, February 3rd\, at 7 p.m. ET for a Center for Christogenesis webinar with Reggie Williams. \nThroughout history\, shifting social\, political\, and economic circumstances have brought new interests and anxieties to the surface\, shaping the questions each era brings to the story of Jesus. Yet these shifts have rarely been harmless. This ongoing process of adaptation has repeatedly remade Jesus into an ideological avatar\, depicting him as one who sanctifies injury and harm—clothing violence in the garments of devotion to God. So deeply has Christianity been entangled with destructive political and cultural projects that confronting harmful ideologies is often perceived as an attack on the faith itself. To break this destructive pattern\, we must ask with seriousness: how have Christians come to misunderstand Jesus so profoundly? \nAbout Reggie Williams\nReggie Williams is Associate Professor of Black Theology and African American Studies at St Louis University in St Louis\, Missouri. He is the author of Bonhoeffer’s Black Jesus: Harlem Renaissance Theology and an Ethic of Resistance\, which was selected as a Choice Outstanding Title in theology\, in 2014 (revised edition\, 2021). The book examines the impact of exposure to theology in the Harlem Renaissance on Dietrich Bonhoeffer\, who was killed by the Nazis in 1945 for his resistance. Dr. Williams is currently work includes a story of a complicated Christian response to fascism\, and a study of ethics for better response to social injustice. Dr. Williams’ research interests include Black Theology\, Black Studies\, Dietrich Bonhoeffer Studies\, and Christian ethics. Dr. Williams is a board member of the English Language section of the International Dietrich Bonhoeffer Society\, former board member of the Society for the Study of Black Religion\, and the Society for Christian Ethics. Dr. Williams and his wife Stacy are the parents of a son\, Darion\, and a daughter\, Simone.
URL:https://christogenesis.org/event/how-christianity-got-jesus-wrong-with-reggie-williams/
LOCATION:Online
CATEGORIES:Monthly Webinars
ATTACH;FMTTYPE=image/jpeg:https://christogenesis.org/wp-content/uploads/2025/12/reggie-williams-how-christianity-got-jesus-wrong-webinar.jpg
END:VEVENT
END:VCALENDAR